BEGIN:VCALENDAR
VERSION:2.0
PRODID:icalendar-ruby
CALSCALE:GREGORIAN
METHOD:PUBLISH
BEGIN:VEVENT
DTSTAMP:20260424T074841Z
UID:520-6235527@nsac.bc.ca
DTSTART:20261014T163000Z
DTEND:20261014T183000Z
CLASS:PUBLIC
CREATED:20260423T174015
DESCRIPTION:We are a growing women's community\, where women from all walks
  of life are connecting and spiritually growing together.\nOn Wednesday mo
 rnings women of all ages come together to:\n- study the Bible\n- encourage
  and support one another\n- grow by praying together\n- celebrate the God-
 given uniqueness of being a woman
LAST-MODIFIED:20260423T174015
LOCATION:North Shore Alliance Church
SUMMARY:Connect
URL;VALUE=URI:https://www.nsac.bc.ca/events/connect--520/2026-10-14
ATTACH;FILENAME=Connect Logo.jpg;FMTTYPE=image/jpeg:https://dq5pwpg1q8ru0.c
 loudfront.net/2025/08/15/21/38/11/5f212360-8e2d-4877-a3a1-89bfc05d2dda/Con
 nect%20Logo.jpg
END:VEVENT
END:VCALENDAR
