BEGIN:VCALENDAR
VERSION:2.0
PRODID:icalendar-ruby
CALSCALE:GREGORIAN
METHOD:PUBLISH
BEGIN:VEVENT
DTSTAMP:20260420T093830Z
UID:1699-6021916@nsac.bc.ca
DTSTART:20260601T020000Z
DTEND:20260601T033000Z
CLASS:PUBLIC
CREATED:20260409T133627
DESCRIPTION:Sunday May 31st\, 7:00 - 8:30 pm at North Shore Alliance Church
 . Come and get to know other moms and join us for a fun evening as we shar
 e something we liked from Liturgy of the Ordinary by Tish Harrison Warren
 .\n\nWe have 10 copies of the book available for purchase ($25 each). Pick
  up your copy downstairs this Sunday. \n\nIf you're able\, bring an appie
  or some fruit to share. Please contact Naomi if you have any questions: n
 aomip@nsac.bc.ca
LAST-MODIFIED:20260409T133627
LOCATION:North Shore Alliance Church
SUMMARY:Mom's Book Club
URL;VALUE=URI:https://www.nsac.bc.ca/events/moms-book-club--1699/2026-05-31
ATTACH;FILENAME=Moms Book Club-May.jpg;FMTTYPE=image/jpeg:https://dq5pwpg1q
 8ru0.cloudfront.net/2026/04/09/20/35/24/fd3354c2-1c41-404c-b31a-513c49cc75
 d0/Moms%20Book%20Club-May.jpg
END:VEVENT
END:VCALENDAR
